BEGIN:VCALENDAR
VERSION:2.0
PRODID:-//negotiationintelligence.com - ECPv6.15.20//NONSGML v1.0//EN
CALSCALE:GREGORIAN
METHOD:PUBLISH
X-WR-CALNAME:negotiationintelligence.com
X-ORIGINAL-URL:https://negotiationintelligence.com
X-WR-CALDESC:Events for negotiationintelligence.com
REFRESH-INTERVAL;VALUE=DURATION:PT1H
X-Robots-Tag:noindex
X-PUBLISHED-TTL:PT1H
BEGIN:VTIMEZONE
TZID:Europe/Amsterdam
BEGIN:DAYLIGHT
TZOFFSETFROM:+0100
TZOFFSETTO:+0200
TZNAME:CEST
DTSTART:20250330T010000
END:DAYLIGHT
BEGIN:STANDARD
TZOFFSETFROM:+0200
TZOFFSETTO:+0100
TZNAME:CET
DTSTART:20251026T010000
END:STANDARD
BEGIN:DAYLIGHT
TZOFFSETFROM:+0100
TZOFFSETTO:+0200
TZNAME:CEST
DTSTART:20260329T010000
END:DAYLIGHT
BEGIN:STANDARD
TZOFFSETFROM:+0200
TZOFFSETTO:+0100
TZNAME:CET
DTSTART:20261025T010000
END:STANDARD
BEGIN:DAYLIGHT
TZOFFSETFROM:+0100
TZOFFSETTO:+0200
TZNAME:CEST
DTSTART:20270328T010000
END:DAYLIGHT
BEGIN:STANDARD
TZOFFSETFROM:+0200
TZOFFSETTO:+0100
TZNAME:CET
DTSTART:20271031T010000
END:STANDARD
END:VTIMEZONE
BEGIN:VEVENT
DTSTART;TZID=Europe/Amsterdam:20260423T170000
DTEND;TZID=Europe/Amsterdam:20260423T180000
DTSTAMP:20260423T140150
CREATED:20260423T021223Z
LAST-MODIFIED:20260423T030352Z
UID:5324-1776963600-1776967200@negotiationintelligence.com
SUMMARY:KI im Verhandlungsmanagement
DESCRIPTION:KI im Verhandlungsmanagement: Jetzt einsteigen und den Vorsprung nutzen\n\n\n\n\n\nWer KI in Verhandlungen nicht kennt\, verliert gegenüber denen\, die sie nutzen. Diese Session zeigt Ihnen\, wie Sie heute einsteigen und das Potenzial von KI konkret für Ihre Verhandlungsvorbereitung nutzen. \n\nKI-Tools zur Verhandlungsvorbereitung im Überblick\nSzenarien und Gegenargumente mit KI entwickeln\nDirekt anwendbar — ohne Vorkenntnisse\n\n23. Apr · 17:00 Uhr – Jetzt anmelden
URL:https://negotiationintelligence.com/event/ki-im-verhandlungsmanagement/
LOCATION:Online
CATEGORIES:Online
ATTACH;FMTTYPE=image/jpeg:https://negotiationintelligence.com/wp-content/uploads/2025/05/representation-user-experience-interface-design-1-scaled.jpg
END:VEVENT
BEGIN:VEVENT
DTSTART;TZID=Europe/Amsterdam:20260428T170000
DTEND;TZID=Europe/Amsterdam:20260428T180000
DTSTAMP:20260423T140150
CREATED:20260423T021854Z
LAST-MODIFIED:20260423T030516Z
UID:5328-1777395600-1777399200@negotiationintelligence.com
SUMMARY:Wenn Lieferanten die Preise erhöhen
DESCRIPTION:Wenn Lieferanten die Preise erhöhen — Ihre Gegenstrategien\n\n\n\n\n\nLernen Sie\, wie Sie Preisforderungen Ihrer Lieferanten systematisch analysieren\, entkräften und mit konkreten Gegenstrategien in bessere Konditionen verwandeln. \n\nPreiserhöhungen strukturiert analysieren und entkräften\nArgumentationsketten und Gegenstrategien entwickeln\nLangfristige Preisklauseln verhandeln\n\n28. Apr · 17:00 Uhr – Jetzt anmelden
URL:https://negotiationintelligence.com/event/wenn-lieferanten-die-preise-erhohen/
LOCATION:Online
CATEGORIES:Online
ATTACH;FMTTYPE=image/jpeg:https://negotiationintelligence.com/wp-content/uploads/2026/04/Joerg-Socials-Community-marketing-37-scaled.jpg
END:VEVENT
BEGIN:VEVENT
DTSTART;TZID=Europe/Amsterdam:20260430T170000
DTEND;TZID=Europe/Amsterdam:20260430T180000
DTSTAMP:20260423T140150
CREATED:20260423T022839Z
LAST-MODIFIED:20260423T030612Z
UID:5334-1777568400-1777572000@negotiationintelligence.com
SUMMARY:Online optimal wirken by Christoph Hilger
DESCRIPTION:Online optimal wirken by Christoph Hilger\nLernen Sie\, wie Sie online gezielt wirken\, Ihre Präsenz professionell steuern und mit klaren Botschaften überzeugend auftreten. \n• Digitale Präsenz gezielt aufbauen und professionell wirken• Wirkung vor der Kamera und im virtuellen Raum bewusst steuern• Klare Botschaften vermitteln und online überzeugend auftreten \n30. Apr . 17:00 UHR – JETZT ANMELDEN
URL:https://negotiationintelligence.com/event/online-optimal-wirken-by-christoph-hilger/
LOCATION:Online
CATEGORIES:Online
ATTACH;FMTTYPE=image/jpeg:https://negotiationintelligence.com/wp-content/uploads/2025/05/representation-user-experience-interface-design-2-scaled.jpg
END:VEVENT
BEGIN:VEVENT
DTSTART;TZID=Europe/Amsterdam:20260521T170000
DTEND;TZID=Europe/Amsterdam:20260521T180000
DTSTAMP:20260423T140150
CREATED:20260423T005627Z
LAST-MODIFIED:20260423T030705Z
UID:5306-1779382800-1779386400@negotiationintelligence.com
SUMMARY:Verhandeln unter Druck
DESCRIPTION:Verhandeln unter Druck — souverän bleiben\, wenn es zählt\n\n\n\n\n\nEntwickeln Sie die innere Haltung und mentale Stärke\, die Sie brauchen\, um auch in hitzigen Verhandlungen\, unter Zeitdruck und bei aggressiven Taktiken klar zu bleiben — und trotzdem das beste Ergebnis zu holen. \n\nInnere Haltung und Souveränität unter Druck entwickeln\nDrucktaktiken erkennen und mental entschärfen\nWalk-away-Punkte klar definieren und kommunizieren\n21. MAY . 17:00 UHR- JETZT ANMELDEN
URL:https://negotiationintelligence.com/event/webinarreihe/
LOCATION:Online
CATEGORIES:Online
ATTACH;FMTTYPE=image/jpeg:https://negotiationintelligence.com/wp-content/uploads/2025/05/person-suffering-from-bullying-scaled.jpg
END:VEVENT
BEGIN:VEVENT
DTSTART;TZID=Europe/Amsterdam:20260526T170000
DTEND;TZID=Europe/Amsterdam:20260526T180000
DTSTAMP:20260423T140150
CREATED:20260423T021430Z
LAST-MODIFIED:20260423T030812Z
UID:5326-1779814800-1779818400@negotiationintelligence.com
SUMMARY:KI im Verhandlungsmanagement
DESCRIPTION:KI im Verhandlungsmanagement: Jetzt einsteigen und den Vorsprung nutzen\n\n\n\n\n\nWer KI in Verhandlungen nicht kennt\, verliert gegenüber denen\, die sie nutzen. Diese Session zeigt Ihnen\, wie Sie heute einsteigen und das Potenzial von KI konkret für Ihre Verhandlungsvorbereitung nutzen. \n\nKI-Tools zur Verhandlungsvorbereitung im Überblick\nSzenarien und Gegenargumente mit KI entwickeln\nDirekt anwendbar — ohne Vorkenntnisse\n26. MAY . 17:00 UHR – JETZT ANMELDEN
URL:https://negotiationintelligence.com/event/ki-im-verhandlungsmanagement-2/
LOCATION:Online
CATEGORIES:Online
ATTACH;FMTTYPE=image/jpeg:https://negotiationintelligence.com/wp-content/uploads/2025/05/representation-user-experience-interface-design-2-scaled.jpg
END:VEVENT
BEGIN:VEVENT
DTSTART;TZID=Europe/Amsterdam:20260528T170000
DTEND;TZID=Europe/Amsterdam:20260528T180000
DTSTAMP:20260423T140150
CREATED:20260423T022633Z
LAST-MODIFIED:20260423T030905Z
UID:5331-1779987600-1779991200@negotiationintelligence.com
SUMMARY:Wenn Lieferanten die Preise erhöhen
DESCRIPTION:Wenn Lieferanten die Preise erhöhen — Ihre Gegenstrategien\n\n\n\n\n\nLernen Sie\, wie Sie Preisforderungen Ihrer Lieferanten systematisch analysieren\, entkräften und mit konkreten Gegenstrategien in bessere Konditionen verwandeln. \n\nPreiserhöhungen strukturiert analysieren und entkräften\nArgumentationsketten und Gegenstrategien entwickeln\nLangfristige Preisklauseln verhandeln\n28. MAY . 17:00 UHR – JETZT ANMELDEN
URL:https://negotiationintelligence.com/event/wenn-lieferanten-die-preise-erhohen-2/
LOCATION:Online
CATEGORIES:Online
ATTACH;FMTTYPE=image/jpeg:https://negotiationintelligence.com/wp-content/uploads/2026/04/Joerg-Socials-Community-marketing-38-scaled.jpg
END:VEVENT
BEGIN:VEVENT
DTSTART;TZID=Europe/Amsterdam:20260529T093000
DTEND;TZID=Europe/Amsterdam:20260529T133000
DTSTAMP:20260423T140150
CREATED:20260423T025200Z
LAST-MODIFIED:20260423T025200Z
UID:5343-1780047000-1780061400@negotiationintelligence.com
SUMMARY:WORKSHOP: KI im Verhandlungsmanagement
DESCRIPTION:KI im Verhandlungsmanagement: Jetzt einsteigen und den Vorsprung nutzen\n\n\n\n\n\nWer KI in Verhandlungen nicht kennt\, verliert gegenüber denen\, die sie nutzen. Diese Session zeigt Ihnen\, wie Sie heute einsteigen und das Potenzial von KI konkret für Ihre Verhandlungsvorbereitung nutzen. \n\nKI-Tools zur Verhandlungsvorbereitung im Überblick\nSzenarien und Gegenargumente mit KI entwickeln\nDirekt anwendbar — ohne Vorkenntnisse\n\nWORKSHOP: 29. MAY . 09:30 AM – 01:30 PM
URL:https://negotiationintelligence.com/event/workshop-ki-im-verhandlungsmanagement/
LOCATION:Online
CATEGORIES:Online
ATTACH;FMTTYPE=image/jpeg:https://negotiationintelligence.com/wp-content/uploads/2026/04/Joerg-Socials-Community-marketing-40-scaled.jpg
END:VEVENT
BEGIN:VEVENT
DTSTART;TZID=Europe/Amsterdam:20260529T093000
DTEND;TZID=Europe/Amsterdam:20260619T133000
DTSTAMP:20260423T140150
CREATED:20260423T023550Z
LAST-MODIFIED:20260423T024221Z
UID:5339-1780047000-1781875800@negotiationintelligence.com
SUMMARY:Negotiation Intelligence Programm
DESCRIPTION:Negotiation Intelligence Programm\nNehmen Sie an vier umfassenden Workshops teil und stärken Sie Ihre Verhandlungsperformance. Die Reihe umfasst unter anderem folgende Workshops: \n\nKI im Verhandlungsmanagement\nVerhandeln unter Druck\nWenn Lieferanten die Preise erhöhen\nOnline optimal wirken\n\n\n\n\n\n\n\n\n\n\n\nWorkshop-Bundle und mehr
URL:https://negotiationintelligence.com/event/negotiation-intelligence-programm/
LOCATION:Online
CATEGORIES:Online
ATTACH;FMTTYPE=image/jpeg:https://negotiationintelligence.com/wp-content/uploads/2025/05/tired-people-working-late-their-office-scaled.jpg
END:VEVENT
BEGIN:VEVENT
DTSTART;TZID=Europe/Amsterdam:20260602T130000
DTEND;TZID=Europe/Amsterdam:20260602T180000
DTSTAMP:20260423T140150
CREATED:20260423T023130Z
LAST-MODIFIED:20260423T031023Z
UID:5336-1780405200-1780423200@negotiationintelligence.com
SUMMARY:Online optimal wirken by Christoph Hilger
DESCRIPTION:Online optimal wirken by Christoph Hilger\nLernen Sie\, wie Sie online gezielt wirken\, Ihre Präsenz professionell steuern und mit klaren Botschaften überzeugend auftreten. \n• Digitale Präsenz gezielt aufbauen und professionell wirken• Wirkung vor der Kamera und im virtuellen Raum bewusst steuern• Klare Botschaften vermitteln und online überzeugend auftreten \n02. JUNE . 17:00 UHR – JETZT ANMELDEN
URL:https://negotiationintelligence.com/event/online-optimal-wirken-by-christoph-hilger-2/
LOCATION:Online
CATEGORIES:Online
ATTACH;FMTTYPE=image/jpeg:https://negotiationintelligence.com/wp-content/uploads/2026/04/Joerg-Socials-Community-marketing-39-scaled.jpg
END:VEVENT
BEGIN:VEVENT
DTSTART;TZID=Europe/Amsterdam:20260605T093000
DTEND;TZID=Europe/Amsterdam:20260605T133000
DTSTAMP:20260423T140150
CREATED:20260423T010636Z
LAST-MODIFIED:20260423T024747Z
UID:5310-1780651800-1780666200@negotiationintelligence.com
SUMMARY:WORKSHOP: Verhandeln unter Druck
DESCRIPTION:Verhandeln unter Druck — souverän bleiben\, wenn es zählt\n\n\n\n\n\nEntwickeln Sie die innere Haltung und mentale Stärke\, die Sie brauchen\, um auch in hitzigen Verhandlungen\, unter Zeitdruck und bei aggressiven Taktiken klar zu bleiben — und trotzdem das beste Ergebnis zu holen. \n\nInnere Haltung und Souveränität unter Druck entwickeln\nDrucktaktiken erkennen und mental entschärfen\nWalk-away-Punkte klar definieren und kommunizieren\n\nWORKSHOP: 05. JUNE . 09:30 AM – 01:30 PM
URL:https://negotiationintelligence.com/event/workshop-verhandeln-unter-druck/
LOCATION:Online
CATEGORIES:Online
ATTACH;FMTTYPE=image/jpeg:https://negotiationintelligence.com/wp-content/uploads/2026/04/Joerg-Socials-Community-marketing-36-scaled.jpg
END:VEVENT
BEGIN:VEVENT
DTSTART;TZID=Europe/Amsterdam:20260612T093000
DTEND;TZID=Europe/Amsterdam:20260612T133000
DTSTAMP:20260423T140150
CREATED:20260423T025442Z
LAST-MODIFIED:20260423T025442Z
UID:5346-1781256600-1781271000@negotiationintelligence.com
SUMMARY:WORKSHOP: Wenn Lieferanten die Preise erhöhen
DESCRIPTION:Wenn Lieferanten die Preise erhöhen — Ihre Gegenstrategien\n\n\n\n\n\nLernen Sie\, wie Sie Preisforderungen Ihrer Lieferanten systematisch analysieren\, entkräften und mit konkreten Gegenstrategien in bessere Konditionen verwandeln. \n\nPreiserhöhungen strukturiert analysieren und entkräften\nArgumentationsketten und Gegenstrategien entwickeln\nLangfristige Preisklauseln verhandeln\nWORKSHOP: 12. JUNE . 09:30AM – 01:30PM
URL:https://negotiationintelligence.com/event/workshop-wenn-lieferanten-die-preise-erhohen/
LOCATION:Online
CATEGORIES:Online
ATTACH;FMTTYPE=image/jpeg:https://negotiationintelligence.com/wp-content/uploads/2026/04/Joerg-Socials-Community-marketing-36-scaled.jpg
END:VEVENT
BEGIN:VEVENT
DTSTART;TZID=Europe/Amsterdam:20260619T093000
DTEND;TZID=Europe/Amsterdam:20260619T130000
DTSTAMP:20260423T140150
CREATED:20260423T025651Z
LAST-MODIFIED:20260423T025651Z
UID:5348-1781861400-1781874000@negotiationintelligence.com
SUMMARY:WORKSHOP: Online optimal wirken
DESCRIPTION:Online optimal wirken by Christoph Hilger\nLernen Sie\, wie Sie online gezielt wirken\, Ihre Präsenz professionell steuern und mit klaren Botschaften überzeugend auftreten. \n• Digitale Präsenz gezielt aufbauen und professionell wirken• Wirkung vor der Kamera und im virtuellen Raum bewusst steuern• Klare Botschaften vermitteln und online überzeugend auftreten \nWORKSHOP:19. JUNE . 09:30AM – 01:00PM
URL:https://negotiationintelligence.com/event/workshop-online-optimal-wirken/
LOCATION:Online
CATEGORIES:Online
ATTACH;FMTTYPE=image/jpeg:https://negotiationintelligence.com/wp-content/uploads/2026/04/Joerg-Socials-Community-marketing-39-scaled.jpg
END:VEVENT
END:VCALENDAR